BEGIN:VCALENDAR
VERSION:2.0
PRODID:-//Women of the Vine & Spirits//Silkstart Technology Inc.//
BEGIN:VEVENT
SUMMARY:WSET Level 2 Award in Beer
DTSTART;VALUE=DATE:20260427
DTEND;VALUE=DATE:20260427
DTSTAMP;VALUE=DATE-TIME:20250605T225317
UID:68421fdd1995c705c0c430c1
DESCRIPTION: 
LOCATION:WSET Online Classroom   
PRIORITY:5
URL:https://www.womenofthevine.com:443/events/wset-level-2-award-in-beer-11
END:VEVENT
END:VCALENDAR
