BEGIN:VCALENDAR
VERSION:2.0
PRODID:-//Women of the Vine & Spirits//Silkstart Technology Inc.//
BEGIN:VTIMEZONE
TZID:US/Pacific
BEGIN:DAYLIGHT
DTSTART;VALUE=DATE-TIME:20260308T020000
TZNAME:PDT
TZOFFSETFROM:-0800
TZOFFSETTO:-0700
END:DAYLIGHT
BEGIN:STANDARD
DTSTART;VALUE=DATE-TIME:20261101T020000
TZNAME:PST
TZOFFSETFROM:-0700
TZOFFSETTO:-0800
END:STANDARD
END:VTIMEZONE
BEGIN:VEVENT
SUMMARY:De-Escalation Training for Hospitality Staff
DTSTART;TZID=US/Pacific;VALUE=DATE-TIME:20260428T100000
DTEND;TZID=US/Pacific;VALUE=DATE-TIME:20260428T113000
DTSTAMP;VALUE=DATE-TIME:20260306T205048
UID:69ab3e281995c705e0b2aabe
DESCRIPTION: Join 86 Harassment for an Expert-Led Training De-Escalation 
 Training for Hospitality Staff Hosted by Safe Bar Inc. Tuesday\, April 28 
 10:00AM PST / 1:00PM EST *90-minutes* Safe Bars De-escalation training 
 focuses on de-escalation\, boundary setting\, and assertive communication 
 for hospitality industry staff. This training was born out of the 
 pandemic\, when hospitality professionals experienced significantly higher
  rates of mistreatment and harassment from patrons. Hospitality and tipped
  wage workers have a lot to navigate\, and our De-escalation training will
  give your team the skills to deal with escalated guests\, giving them a 
 greater sense of safety and confidence. In this training\, you&rsquo\;ll 
 learn: Why to choose de-escalation How to recognize a stress response 5 
 steps to effectively de-escalate Active listening skills The assertive 
 alternative Organizational strategies for safety And more! This training 
 is 1.5 hours long\, trauma-informed\, target-centered\, evidence-based\, 
 experiential\, and participatory. About 86 Harassment 86 Harassment is a 
 groundbreaking initiative created by Women of the Vine &amp\; Spirits\, 
 aimed at addressing sexual harassment and gender-based violence within the
  beverage alcohol and hospitality industries. It serves as a collaborative
  effort to provide resources\, support\, and education to create safer 
 work environments for all employees and customers. 86 Harassment is led by
  Women of the Vine &amp\; Spirits\, in partnership with Industry 
 Association Partners and Corporate Sponsors who hold a seat on the 86 
 Harassment Council. Industry Association Partners: Women of the Vine 
 &amp\; Spirits\, Distilled Spirits Council of the United States and Wine 
 &amp\; Spirits Wholesalers of America. Corporate Sponsors: Pernod Ricard 
 North America and Republic National Distributing Company. For more 
 information\, please visit www.86harassment.com. About Safe Bars Inc. Safe
  Bars is a DC/Baltimore-based nonprofit organization founded in 2013 whose
  mission is to prevent sexual harassment and assault in alcohol-serving 
 spaces by teaching active bystander and de-escalation skills to 
 hospitality staff\, ultimately changing industry culture. We serve 
 communities locally\, nationally\, and internationally. Our executive 
 director\, Amie Ward\, has over 20 years experience in all facets of the 
 hospitality industry. Safe Bars has a team of 16 trainers across the 
 country\, all of them hospitality professionals. To learn more and discuss
  scheduling\, please contact info@safebars.org. If you or someone you know
  has been affected by sexual violence\, the 86 Harassment Hotline provides
  free\, anonymous 24/7 support via phone at 1.781.277.6679 in English and 
 Spanish. Learn more here. RAINN&rsquo\;s website (www.rainn.org) also 
 provides information on supporting loved ones who are survivors\, helping 
 yourself heal if you&rsquo\;ve been directly affected by sexual violence\,
  and how to be part of creating safer communities. 
LOCATION:
PRIORITY:5
URL:https://www.womenofthevine.com:443/events/de-escalation-training-for-
 hospitality-staff-4
END:VEVENT
END:VCALENDAR
