BEGIN:VCALENDAR
VERSION:2.0
PRODID:-//Women of the Vine & Spirits//Silkstart Technology Inc.//
BEGIN:VTIMEZONE
TZID:US/Pacific
BEGIN:DAYLIGHT
DTSTART;VALUE=DATE-TIME:20260308T020000
TZNAME:PDT
TZOFFSETFROM:-0800
TZOFFSETTO:-0700
END:DAYLIGHT
BEGIN:STANDARD
DTSTART;VALUE=DATE-TIME:20261101T020000
TZNAME:PST
TZOFFSETFROM:-0700
TZOFFSETTO:-0800
END:STANDARD
END:VTIMEZONE
BEGIN:VEVENT
SUMMARY:C-Suite Insights - Leading with Purpose: Collaboration & Values 
 Driven Stewardship
DTSTART;TZID=US/Pacific;VALUE=DATE-TIME:20260422T100000
DTEND;TZID=US/Pacific;VALUE=DATE-TIME:20260422T105000
DTSTAMP;VALUE=DATE-TIME:20260319T213354
UID:69bc6bc21995c705f2e2231f
DESCRIPTION: 
LOCATION:
PRIORITY:5
URL:https://www.womenofthevine.com:443/events/c-suite-insights-7
END:VEVENT
END:VCALENDAR
