BEGIN:VCALENDAR
VERSION:2.0
PRODID:-//Women of the Vine & Spirits//Silkstart Technology Inc.//
BEGIN:VTIMEZONE
TZID:US/Pacific
BEGIN:DAYLIGHT
DTSTART;VALUE=DATE-TIME:20260308T020000
TZNAME:PDT
TZOFFSETFROM:-0800
TZOFFSETTO:-0700
END:DAYLIGHT
BEGIN:STANDARD
DTSTART;VALUE=DATE-TIME:20261101T020000
TZNAME:PST
TZOFFSETFROM:-0700
TZOFFSETTO:-0800
END:STANDARD
END:VTIMEZONE
BEGIN:VEVENT
SUMMARY:Belonging: Working with Business Partners Part 4- CM/UC Only
DTSTART;TZID=US/Pacific;VALUE=DATE-TIME:20221220T100000
DTEND;TZID=US/Pacific;VALUE=DATE-TIME:20221220T110000
DTSTAMP;VALUE=DATE-TIME:20220909T132657
UID:631b3f2151ea1f05e6dc1c7a
DESCRIPTION: 
LOCATION:
PRIORITY:5
URL:https://www.womenofthevine.com:443/events/belonging-working-with-
 business-partners-cmuc-only
END:VEVENT
END:VCALENDAR
